BEGIN:VCALENDAR
VERSION:2.0
PRODID:-//Suzan ARTS - ECPv6.2.8.1//NONSGML v1.0//EN
CALSCALE:GREGORIAN
METHOD:PUBLISH
X-ORIGINAL-URL:https://www.suzanarts.com
X-WR-CALDESC:Events for Suzan ARTS
REFRESH-INTERVAL;VALUE=DURATION:PT1H
X-Robots-Tag:noindex
X-PUBLISHED-TTL:PT1H
BEGIN:VTIMEZONE
TZID:Europe/London
BEGIN:DAYLIGHT
TZOFFSETFROM:+0000
TZOFFSETTO:+0100
TZNAME:BST
DTSTART:20230326T010000
END:DAYLIGHT
BEGIN:STANDARD
TZOFFSETFROM:+0100
TZOFFSETTO:+0000
TZNAME:GMT
DTSTART:20231029T010000
END:STANDARD
END:VTIMEZONE
BEGIN:VEVENT
DTSTART;VALUE=DATE:20231115
DTEND;VALUE=DATE:20231116
DTSTAMP:20260422T031225
CREATED:20231107T092338Z
LAST-MODIFIED:20231122T105143Z
UID:8223-1700006400-1700092799@www.suzanarts.com
SUMMARY:Website Launch
DESCRIPTION:We’ve Changed \nBut it’s all good – we’ve just launched our new look website. It’s now even easier (we hope!) to find your favorite section and discover some exciting new ones at the same time. With better navigation and more in-depth information\, we hope you love it as much as we do.
URL:https://www.suzanarts.com/event/website-launch/
LOCATION:Online
CATEGORIES:Projects
ATTACH;FMTTYPE=image/png:https://www.suzanarts.com/wp-content/uploads/2023/11/WebSite-Launch.png
END:VEVENT
END:VCALENDAR